BEGIN:VCALENDAR
VERSION:2.0
PRODID:https://www.thi.de/forschung/events-detail/
CALSCALE:GREGORIAN
BEGIN:VTIMEZONE
TZID:Europe/Berlin
TZURL:http://tzurl.org/zoneinfo-outlook/Europe/Berlin
X-LIC-LOCATION:Europe/Berlin
BEGIN:DAYLIGHT
TZOFFSETFROM:+0100
TZOFFSETTO:+0200
TZNAME:CEST
DTSTART:19700329T020000
RRULE:FREQ=YEARLY;BYMONTH=3;BYDAY=-1SU
END:DAYLIGHT
BEGIN:STANDARD
TZOFFSETFROM:+0200
TZOFFSETTO:+0100
TZNAME:CET
DTSTART:19701025T030000
RRULE:FREQ=YEARLY;BYMONTH=10;BYDAY=-1SU
END:STANDARD
END:VTIMEZONE
BEGIN:VEVENT
DTSTAMP:20210322T121717Z
UID:20210322T121717Z-1204250003@oedp.de
DTSTART;TZID=Europe/Berlin:20251211T131900
DTEND;TZID=Europe/Berlin:20251211T183000
SUMMARY:Startup Opportunities: zukünftige Drohnenabwehr

URL:https://www.thi.de/forschung/events-detail/news/startup-opportunities-zukuenftige-drohnenabwehr/
DESCRIPTION:Nach unserer Einstiegsveranstaltung zu Dual-Use und Defence gemeinsam mit brigkAir im Sommer widmen wir uns nun einem konkreten Anwendungsfall: der Abwehr von Drohnenangriffen auf zivile und militärische Infrastruktur. Im Workshop am 11.Dezember 2025 im brigk Makerspace Ingolstadt stehen Technologien und Systemarchitekturen für Counter-UAS im Mittelpunkt. Gemeinsam mit Start-ups, Industrie und Forschung entwickeln wir innovative Ansätze für Sicherheit, Zusammenarbeit und praxisnahen Technologietransfer.\n📅 11. Dezember 2025🕑 13:00 – 18:30 Uhr📍 Makerspace, brigk – Kavalier Dalwigk, Ingolstadt Im Mittelpunkt dieses Workshops steht das Zusammenspiel von Technologien und Systemarchitekturen für Drohnenabwehr.Auf Basis einer einführenden Systemarchitektur für Counter-UAS werden die Teilnehmenden in Gruppenarbeit technische Lösungsbeiträge entlang der Functional Chain „Aufklärung“, „Battle Management“ und „Wirkung“ erarbeiten und diskutieren. Was euch erwartet: Einstieg in ein konkretes Defence-Anwendungsszenario: Drohnenabwehr als multidisziplinäre Herausforderung.Systemischer Blick: Architekturprinzipien, Schnittstellen und operative Abläufe von aktuellen und zukünftigen C-UAS-Systemen.Gruppenarbeit in drei technischen Dimensionen:1. Aufklärung: Sensorik, Detektion, Klassifikation von Bedrohungen2. Battle Management: Datenfusion, Entscheidungsunterstützung, Führungsprozesse3. Wirkung: Abwehrmechanismen von Soft- bis Hard-Kill LösungenAustausch auf Augenhöhe: Start-ups, Industrie und Forschung diskutieren gemeinsam innovative Ansätze, Synergien undSchnittstellen.Netzwerk & Co-Creation: Entwickelt in interdisziplinären Teams konkrete Lösungsansätze und Projektideen. Die Veranstaltung richtet sich an alle, die im Defence-Bereich aktiv sind oder Dual-Use-Technologien entwickeln und erfahren möchten, wie ihre Technologien in C-UAS-Architekturen andocken (Sensorik, KI/Analytics, Edge/Cloud, Battle Management, Effektoren, Simulation/Test). Da wir einen ausgewogenen Teilnehmerkreis sicherstellen möchten, bitten wir um eine kurze Bewerbung bis spätestens 01.12.2025 unter:  👉 [Jetzt bewerben]  👉 [Programm]Wir freuen uns auf eine spannende Fortsetzung unseres Defence Innovation Formats – mit Fokus auf Technologie,Zusammenarbeit und praxisnahem Transfer. 


END:VEVENT
END:VCALENDAR