BEGIN:VCALENDAR
VERSION:2.0
PRODID:https://www.thi.de/forschung/events-detail/
CALSCALE:GREGORIAN
BEGIN:VTIMEZONE
TZID:Europe/Berlin
TZURL:http://tzurl.org/zoneinfo-outlook/Europe/Berlin
X-LIC-LOCATION:Europe/Berlin
BEGIN:DAYLIGHT
TZOFFSETFROM:+0100
TZOFFSETTO:+0200
TZNAME:CEST
DTSTART:19700329T020000
RRULE:FREQ=YEARLY;BYMONTH=3;BYDAY=-1SU
END:DAYLIGHT
BEGIN:STANDARD
TZOFFSETFROM:+0200
TZOFFSETTO:+0100
TZNAME:CET
DTSTART:19701025T030000
RRULE:FREQ=YEARLY;BYMONTH=10;BYDAY=-1SU
END:STANDARD
END:VTIMEZONE
BEGIN:VEVENT
DTSTAMP:20210322T121717Z
UID:20210322T121717Z-1204250003@oedp.de
DTSTART;TZID=Europe/Berlin:20250701T110000
DTEND;TZID=Europe/Berlin:20250701T130000
SUMMARY:Startup Opportunities in der Verteidigungsindustrie

URL:https://www.thi.de/forschung/events-detail/news/startup-opportunities-in-der-verteidigungsindustrie/
DESCRIPTION:Dual Use denken, Kunden verstehen, Netzwerke schaffen\nAm 1. Juli 2025 fand in Ingolstadt der Workshop „Startup Opportunities in der Verteidigungsindustrie“ statt – ein gemeinsames Event von TTZ Unbemannte Flugsysteme der THI und brigk / brigkAIR. Über 50 Startups und junge Unternehmen nutzten die Gelegenheit, sich mit den Besonderheiten und Potenzialen des Defence-Sektors auseinanderzusetzen. Das Programm bot spannende Einblicke und viel Raum zum Austausch: Eröffnung und Grußworte von Dr. Franz Glatz, Prof. Dr. Gerhard Elsbacher und Klaus Bayer, sowie Politikvertretern wie dem Landtagsabgeordnetem Albert Gürtner und Oberbürgermeister Dr. Michael KernFachimpulse von Airbus Defence and Space , MBDA Germany, Quantum Systems und HIRSCH Engineering SolutionsInteraktive Workshops zu den Themen Engineering & Technologien, Komponenten & Subsysteme sowie Militärische SystemeDiskussion der Ergebnisse und anschließendes Get Together auf der Dachterrasse Zentrale Fragen des Tages: Wer ist im sicherheitskritischen Umfeld der richtige Kunde? Und wie lassen sich ethisch vertretbare und wirtschaftlich tragfähige Geschäftsmodelle entwickeln? Vielen Dank an alle Mitwirkenden, Speaker und Teilnehmenden für die Offenheit, die Diskussionen und den gelungenen Austausch! 📢 Und: Die Planungen für eine zweite Auflage laufen bereits – wir halten euch auf dem Laufenden!


END:VEVENT
END:VCALENDAR