BEGIN:VCALENDAR
VERSION:2.0
PRODID:https://www.thi.de/forschung/events-detail/
CALSCALE:GREGORIAN
BEGIN:VTIMEZONE
TZID:Europe/Berlin
TZURL:http://tzurl.org/zoneinfo-outlook/Europe/Berlin
X-LIC-LOCATION:Europe/Berlin
BEGIN:DAYLIGHT
TZOFFSETFROM:+0100
TZOFFSETTO:+0200
TZNAME:CEST
DTSTART:19700329T020000
RRULE:FREQ=YEARLY;BYMONTH=3;BYDAY=-1SU
END:DAYLIGHT
BEGIN:STANDARD
TZOFFSETFROM:+0200
TZOFFSETTO:+0100
TZNAME:CET
DTSTART:19701025T030000
RRULE:FREQ=YEARLY;BYMONTH=10;BYDAY=-1SU
END:STANDARD
END:VTIMEZONE
BEGIN:VEVENT
DTSTAMP:20210322T121717Z
UID:20210322T121717Z-1204250003@oedp.de
DTSTART;TZID=Europe/Berlin:20240412T130000
DTEND;TZID=Europe/Berlin:T
SUMMARY:2. BitcoinForum Bayern

URL:https://www.thi.de/forschung/events-detail/news/2-bitcoinforum-bayern/
DESCRIPTION:Was steckt hinter "Bitcoin, Blockchain & Co."? Die Antworten gibt es beim 2. BitcoinForum Bayern.\nAm 12. April 2024 ab 13:00 Uhr bis open end findet das 2. BitcoinForum Bayern im Stadttheater und an der THI statt. Geboten wird ein umfangreiches Programm mit Fachvorträgen, Workshops und Podiumsdiskussion. Welche Chancen, aber auch Herausforderungen bietet die Blockchain-Technologie? Für einen unterhaltsamen Ausklang des Tages sorgt die Bitcoin Party. Herzlich eingeladen sind sowohl "No-Bitcoiner" als auch "Bitcoiner". Vertiefen Sie Ihre Kenntnisse, tauschen Sie sich mit Experten aus und vernetzen Sie sich mit Gleichgesinnten. Die Veranstaltung ist als Bildungsangebot offen für alle Interessierten, die Teilnahme am Forum ist kostenfrei. Eine Anmeldung ist erforderlich. Programm & Anmeldung


END:VEVENT
END:VCALENDAR