BEGIN:VCALENDAR
VERSION:2.0
PRODID:https://www.thi.de/en/research/research-events-detail/
CALSCALE:GREGORIAN
BEGIN:VTIMEZONE
TZID:Europe/Berlin
TZURL:http://tzurl.org/zoneinfo-outlook/Europe/Berlin
X-LIC-LOCATION:Europe/Berlin
BEGIN:DAYLIGHT
TZOFFSETFROM:+0100
TZOFFSETTO:+0200
TZNAME:CEST
DTSTART:19700329T020000
RRULE:FREQ=YEARLY;BYMONTH=3;BYDAY=-1SU
END:DAYLIGHT
BEGIN:STANDARD
TZOFFSETFROM:+0200
TZOFFSETTO:+0100
TZNAME:CET
DTSTART:19701025T030000
RRULE:FREQ=YEARLY;BYMONTH=10;BYDAY=-1SU
END:STANDARD
END:VTIMEZONE
BEGIN:VEVENT
DTSTAMP:20210322T121717Z
UID:20210322T121717Z-1204250003@oedp.de
DTSTART;TZID=Europe/Berlin:20250701T180000
DTEND;TZID=Europe/Berlin:20250701T210000
SUMMARY:Startup opportunities in the defence industry

URL:https://www.thi.de/en/research/research-events-detail/news/startup-opportunities-in-the-defence-industry/
DESCRIPTION:Think dual use, understand customers, create networks\nOn 1 July 2025, the workshop "Startup Opportunities in the Defence Industry" took place in Ingolstadt - a joint event organised by TTZ Unmanned Flight Systems of THI and brigk / brigkAIR. Over 50 startups and young companies took the opportunity to explore the special features and potential of the defence sector. The programme offered exciting insights and plenty of room for exchange: Opening and greetings from Dr Franz Glatz, Prof Dr Gerhard Elsbacher and Klaus Bayer, as well as political representatives such as Albert Gürtner, Member of the State Parliament, and Lord Mayor Dr Michael Kern.Expert input from Airbus Defence and Space, MBDA Germany, Quantum Systems and HIRSCH Engineering SolutionsInteractive workshops on the topics of Engineering & Technologies, Components & Subsystems and Military SystemsDiscussion of the results and subsequent get-together on the roof terrace Key questions of the day: Who is the right customer in a safety-critical environment? And how can ethically justifiable and economically viable business models be developed? Many thanks to all contributors, speakers and participants for the openness, the discussions and the successful exchange! 📢 And: Planning for a second edition is already underway - we'll keep you up to date!


END:VEVENT
END:VCALENDAR