BEGIN:VCALENDAR
VERSION:2.0
PRODID:https://www.thi.de/en/research/research-events-detail/
CALSCALE:GREGORIAN
BEGIN:VTIMEZONE
TZID:Europe/Berlin
TZURL:http://tzurl.org/zoneinfo-outlook/Europe/Berlin
X-LIC-LOCATION:Europe/Berlin
BEGIN:DAYLIGHT
TZOFFSETFROM:+0100
TZOFFSETTO:+0200
TZNAME:CEST
DTSTART:19700329T020000
RRULE:FREQ=YEARLY;BYMONTH=3;BYDAY=-1SU
END:DAYLIGHT
BEGIN:STANDARD
TZOFFSETFROM:+0200
TZOFFSETTO:+0100
TZNAME:CET
DTSTART:19701025T030000
RRULE:FREQ=YEARLY;BYMONTH=10;BYDAY=-1SU
END:STANDARD
END:VTIMEZONE
BEGIN:VEVENT
DTSTAMP:20210322T121717Z
UID:20210322T121717Z-1204250003@oedp.de
DTSTART;TZID=Europe/Berlin:20240504T090000
DTEND;TZID=Europe/Berlin:20240504T180000
SUMMARY:BRK drone day at the THI

URL:https://www.thi.de/en/research/research-events-detail/news/brk-drone-day-at-the-thi/
DESCRIPTION:Over 100 experts from all over the German-speaking world discussed the topic of "Drones in civil protection" at the symposium.\nIn addition to presentations and discussions, the symposium, which took place for the fifth time this year and was organised by the Bavarian Red Cross in cooperation with Urban Air Mobility of the city of Ingolstadt and THI, also featured various drone demonstrations. THI Professor Gerhard Elsbacher explained how the autonomous aircraft work. These followed AI-based algorithms. Visitors were able to observe this impressively during the so-called drone swarm flight, one of the highlights of this year's Drone Day. The speakers from the BRK, DRK, police, ADAC, THW, mountain rescue services, BBK and the BMW plant fire brigade all agreed: drones are valuable helpers in all kinds of disasters. Dr Reinhard Brandl, Member of the German Bundestag, Dr Christian Lösel, Managing Director of AImotion Bavaria, Professor Georg Rosenfeld and Torsten Kretschmann from Deutsche Flugsicherung also shared this view. They discussed the best ways to automate drone flights. Photo: BRK, Text: Simone Ketterl (THI)


END:VEVENT
END:VCALENDAR